BEGIN:VCALENDAR
VERSION:2.0
PRODID:-//Rusty Nickel Brewing - ECPv6.15.20//NONSGML v1.0//EN
CALSCALE:GREGORIAN
METHOD:PUBLISH
X-ORIGINAL-URL:https://rustynickelbrewing.beckyhancock.design
X-WR-CALDESC:Events for Rusty Nickel Brewing
REFRESH-INTERVAL;VALUE=DURATION:PT1H
X-Robots-Tag:noindex
X-PUBLISHED-TTL:PT1H
BEGIN:VTIMEZONE
TZID:America/New_York
BEGIN:DAYLIGHT
TZOFFSETFROM:-0500
TZOFFSETTO:-0400
TZNAME:EDT
DTSTART:20250309T070000
END:DAYLIGHT
BEGIN:STANDARD
TZOFFSETFROM:-0400
TZOFFSETTO:-0500
TZNAME:EST
DTSTART:20251102T060000
END:STANDARD
BEGIN:DAYLIGHT
TZOFFSETFROM:-0500
TZOFFSETTO:-0400
TZNAME:EDT
DTSTART:20260308T070000
END:DAYLIGHT
BEGIN:STANDARD
TZOFFSETFROM:-0400
TZOFFSETTO:-0500
TZNAME:EST
DTSTART:20261101T060000
END:STANDARD
BEGIN:DAYLIGHT
TZOFFSETFROM:-0500
TZOFFSETTO:-0400
TZNAME:EDT
DTSTART:20270314T070000
END:DAYLIGHT
BEGIN:STANDARD
TZOFFSETFROM:-0400
TZOFFSETTO:-0500
TZNAME:EST
DTSTART:20271107T060000
END:STANDARD
END:VTIMEZONE
BEGIN:VEVENT
DTSTART;TZID=America/New_York:20260914T190000
DTEND;TZID=America/New_York:20260914T210000
DTSTAMP:20260420T021527
CREATED:20260417T175519Z
LAST-MODIFIED:20260417T175536Z
UID:213-1789412400-1789419600@rustynickelbrewing.beckyhancock.design
SUMMARY:Trivia Night
DESCRIPTION:
URL:https://rustynickelbrewing.beckyhancock.design/event/trivia-night-5/
END:VEVENT
BEGIN:VEVENT
DTSTART;TZID=America/New_York:20261003T000000
DTEND;TZID=America/New_York:20261003T235959
DTSTAMP:20260420T021527
CREATED:20260417T175452Z
LAST-MODIFIED:20260417T175452Z
UID:211-1790985600-1791071999@rustynickelbrewing.beckyhancock.design
SUMMARY:Harvest Fest
DESCRIPTION:
URL:https://rustynickelbrewing.beckyhancock.design/event/harvest-fest/
END:VEVENT
BEGIN:VEVENT
DTSTART;TZID=America/New_York:20261012T190000
DTEND;TZID=America/New_York:20261012T210000
DTSTAMP:20260420T021527
CREATED:20260417T175610Z
LAST-MODIFIED:20260417T175610Z
UID:215-1791831600-1791838800@rustynickelbrewing.beckyhancock.design
SUMMARY:Trivia Night
DESCRIPTION:
URL:https://rustynickelbrewing.beckyhancock.design/event/trivia-night-6/
END:VEVENT
BEGIN:VEVENT
DTSTART;TZID=America/New_York:20261016T000000
DTEND;TZID=America/New_York:20261016T235959
DTSTAMP:20260420T021527
CREATED:20260417T175641Z
LAST-MODIFIED:20260417T175641Z
UID:217-1792108800-1792195199@rustynickelbrewing.beckyhancock.design
SUMMARY:Brew at the Zoo @ The Buffalo Zoo
DESCRIPTION:
URL:https://rustynickelbrewing.beckyhancock.design/event/brew-at-the-zoo-the-buffalo-zoo/
END:VEVENT
BEGIN:VEVENT
DTSTART;TZID=America/New_York:20261102T190000
DTEND;TZID=America/New_York:20261102T210000
DTSTAMP:20260420T021527
CREATED:20260417T175718Z
LAST-MODIFIED:20260417T175718Z
UID:219-1793646000-1793653200@rustynickelbrewing.beckyhancock.design
SUMMARY:Trivia Night
DESCRIPTION:
URL:https://rustynickelbrewing.beckyhancock.design/event/trivia-night-7/
END:VEVENT
BEGIN:VEVENT
DTSTART;TZID=America/New_York:20261207T190000
DTEND;TZID=America/New_York:20261207T210000
DTSTAMP:20260420T021527
CREATED:20260417T175751Z
LAST-MODIFIED:20260417T175751Z
UID:221-1796670000-1796677200@rustynickelbrewing.beckyhancock.design
SUMMARY:Trivia Night
DESCRIPTION:
URL:https://rustynickelbrewing.beckyhancock.design/event/trivia-night-8/
END:VEVENT
END:VCALENDAR